BEGIN:VCALENDAR
VERSION:2.0
METHOD:PUBLISH
PRODID:-//eightway/atendo2//NONSGML v1.0//EN
BEGIN:VEVENT
DTSTAMP:20260420T90936Z
DTSTART:20230225T100000Z
DTEND:20230226T20000Z
LOCATION:Harkortstraße 3, 42551 Velbert, Germany (FKK Prime)
UID:252-294
SUMMARY:Karneval Party im Prime
DESCRIPTION:https://www.freiercafe.net/kalender/karneval-party-im-prime.252/event?id=294
URL:https://www.freiercafe.net/kalender/karneval-party-im-prime.252/event?id=294
END:VEVENT
END:VCALENDAR