BEGIN:VCALENDAR
VERSION:2.0
METHOD:PUBLISH
PRODID:-//eightway/atendo2//NONSGML v1.0//EN
BEGIN:VEVENT
DTSTAMP:20260420T90133Z
DTSTART:20230218T90000Z
DTEND:20230219T50000Z
LOCATION:Heerstraße 2, 47053 Duisburg, Germany (Erotic Lounge, Heerstraße 2, 47053 Duisburg)
UID:251-293
SUMMARY:Karnevalsparty in der Erotic Lounge
DESCRIPTION:https://www.freiercafe.net/kalender/karnevalsparty-in-der-erotic-lounge.251/event?id=293
URL:https://www.freiercafe.net/kalender/karnevalsparty-in-der-erotic-lounge.251/event?id=293
END:VEVENT
END:VCALENDAR