BEGIN:VCALENDAR
VERSION:2.0
METHOD:PUBLISH
PRODID:-//eightway/atendo2//NONSGML v1.0//EN
BEGIN:VEVENT
DTSTAMP:20260420T90340Z
DTSTART:20230218T90000Z
DTEND:20230219T40000Z
LOCATION:Robert-Zapp-Straße 2A, 40880 Ratingen, Germany (Saunaclub Acapulco Gold, Robert-Zapp-Straße 2A, 40880 Ratingen)
UID:250-292
SUMMARY:Karnevalsparty im Acapulco GOLD
DESCRIPTION:https://www.freiercafe.net/kalender/karnevalsparty-im-acapulco-gold.250/event?id=292
URL:https://www.freiercafe.net/kalender/karnevalsparty-im-acapulco-gold.250/event?id=292
END:VEVENT
END:VCALENDAR