BEGIN:VCALENDAR
VERSION:2.0
METHOD:PUBLISH
PRODID:-//eightway/atendo2//NONSGML v1.0//EN
BEGIN:VEVENT
DTSTAMP:20260420T90935Z
DTSTART:20230218T100000Z
DTEND:20230219T40000Z
LOCATION:Westring 233, 44579 Castrop-Rauxel, Germany (Saunaclub Penelope, Westring 233 A, 44579 Castrop-Rauxel)
UID:249-291
SUMMARY:Karnevalsparty im Penelope
DESCRIPTION:https://www.freiercafe.net/kalender/karnevalsparty-im-penelope.249/event?id=291
URL:https://www.freiercafe.net/kalender/karnevalsparty-im-penelope.249/event?id=291
END:VEVENT
END:VCALENDAR