BEGIN:VCALENDAR
VERSION:2.0
METHOD:PUBLISH
PRODID:-//eightway/atendo2//NONSGML v1.0//EN
BEGIN:VEVENT
DTSTAMP:20260420T90203Z
DTSTART:20230213T100000Z
DTEND:20230218T110000Z
LOCATION:Benzstraße 26-28, 47574 Goch, Germany (Saunaclub Van Goch, Benzstraße 26-28, 47574 Goch)
UID:248-290
SUMMARY:16 JAHRE VAN GOCH JUBILÄUMSWOCHE
DESCRIPTION:https://www.freiercafe.net/kalender/16-jahre-van-goch-jubilaeumswoche.248/event?id=290
URL:https://www.freiercafe.net/kalender/16-jahre-van-goch-jubilaeumswoche.248/event?id=290
END:VEVENT
END:VCALENDAR