BEGIN:VCALENDAR
VERSION:2.0
METHOD:PUBLISH
PRODID:-//eightway/atendo2//NONSGML v1.0//EN
BEGIN:VEVENT
DTSTAMP:20260420T111645Z
DTSTART:20230216T100000Z
DTEND:20230220T40000Z
LOCATION:Butzenstraße 42, 47918 Tönisvorst, Germany (Happy Garden Saunaclub)
UID:247-289
SUMMARY:Karneval im Happy Garden
DESCRIPTION:https://www.freiercafe.net/kalender/karneval-im-happy-garden.247/event?id=289
URL:https://www.freiercafe.net/kalender/karneval-im-happy-garden.247/event?id=289
END:VEVENT
END:VCALENDAR