BEGIN:VCALENDAR
VERSION:2.0
METHOD:PUBLISH
PRODID:-//eightway/atendo2//NONSGML v1.0//EN
BEGIN:VEVENT
DTSTAMP:20260420T90159Z
DTSTART:20230225T100000Z
DTEND:20230226T10000Z
LOCATION:Bahnstraße 90, 47929 Grefrath, Germany (GoldenGate Saunaclub)
UID:246-288
SUMMARY:Karneval in RIO
DESCRIPTION:https://www.freiercafe.net/kalender/karneval-in-rio.246/event?id=288
URL:https://www.freiercafe.net/kalender/karneval-in-rio.246/event?id=288
END:VEVENT
END:VCALENDAR