BEGIN:VCALENDAR
VERSION:2.0
METHOD:PUBLISH
PRODID:-//eightway/atendo2//NONSGML v1.0//EN
BEGIN:VEVENT
DTSTAMP:20260420T90234Z
DTSTART:20230216T100000Z
DTEND:20230217T20000Z
LOCATION:Kirschbaumweg 26A, 50996 Köln, Germany (Samya FKK Saunaclub)
UID:245-287
SUMMARY:Weiberfastnacht Party
DESCRIPTION:https://www.freiercafe.net/kalender/weiberfastnacht-party.245/event?id=287
URL:https://www.freiercafe.net/kalender/weiberfastnacht-party.245/event?id=287
END:VEVENT
END:VCALENDAR