BEGIN:VCALENDAR
VERSION:2.0
METHOD:PUBLISH
PRODID:-//eightway/atendo2//NONSGML v1.0//EN
BEGIN:VEVENT
DTSTAMP:20260420T90200Z
DTSTART:20230204T90000Z
DTEND:20230205T40000Z
LOCATION:Robert-Zapp-Straße 2A, 40880 Ratingen, Germany (Saunaclub Acapulco Gold, Robert-Zapp-Straße 2A, 40880 Ratingen)
UID:244-286
SUMMARY:Pyjama Party im Acapulco GOLD
DESCRIPTION:https://www.freiercafe.net/kalender/pyjama-party-im-acapulco-gold.244/event?id=286
URL:https://www.freiercafe.net/kalender/pyjama-party-im-acapulco-gold.244/event?id=286
END:VEVENT
END:VCALENDAR