BEGIN:VCALENDAR
VERSION:2.0
METHOD:PUBLISH
PRODID:-//eightway/atendo2//NONSGML v1.0//EN
BEGIN:VEVENT
DTSTAMP:20260420T90124Z
DTSTART:20230204T100000Z
DTEND:20230205T40000Z
LOCATION:Westring 233, 44579 Castrop-Rauxel, Germany (Saunaclub Penelope, Westring 233 A, 44579 Castrop-Rauxel)
UID:243-285
SUMMARY:Pyjama Party im Penelope Deluxe
DESCRIPTION:https://www.freiercafe.net/kalender/pyjama-party-im-penelope-deluxe.243/event?id=285
URL:https://www.freiercafe.net/kalender/pyjama-party-im-penelope-deluxe.243/event?id=285
END:VEVENT
END:VCALENDAR