BEGIN:VCALENDAR
VERSION:2.0
METHOD:PUBLISH
PRODID:-//eightway/atendo2//NONSGML v1.0//EN
BEGIN:VEVENT
DTSTAMP:20260420T90131Z
DTSTART:20230106T120000Z
DTEND:20230106T100000Z
LOCATION:Burenkamp 5, 46286 Dorsten, Germany (FKK Saunaclub Luxe Inn, Burenkamp 5, 46286 Dorsten)
UID:241-283
SUMMARY:NEUERÖFFNUNG LUXE IN DORSTEN
DESCRIPTION:https://www.freiercafe.net/kalender/neueroeffnung-luxe-in-dorsten.241/event?id=283
URL:https://www.freiercafe.net/kalender/neueroeffnung-luxe-in-dorsten.241/event?id=283
END:VEVENT
END:VCALENDAR