BEGIN:VCALENDAR
VERSION:2.0
METHOD:PUBLISH
PRODID:-//eightway/atendo2//NONSGML v1.0//EN
BEGIN:VEVENT
DTSTAMP:20260420T90130Z
DTSTART:20230101T90000Z
DTEND:20230101T105900Z
LOCATION:Lemiers Rijksweg 1, 6295 AK Lemiers, Netherlands (Saunaclub Sixens, Lemiers Rijksweg 1, 6295 AK Lemiers, Niederlande)
UID:239-281
SUMMARY:Neujahrszeiten im Sixsens
DESCRIPTION:https://www.freiercafe.net/kalender/neujahrszeiten-im-sixsens.239/event?id=281
URL:https://www.freiercafe.net/kalender/neujahrszeiten-im-sixsens.239/event?id=281
END:VEVENT
END:VCALENDAR