BEGIN:VCALENDAR
VERSION:2.0
METHOD:PUBLISH
PRODID:-//eightway/atendo2//NONSGML v1.0//EN
BEGIN:VEVENT
DTSTAMP:20260420T90221Z
DTSTART:20221226T90000Z
DTEND:20221227T40000Z
LOCATION:Heerstraße 2, 47053 Duisburg, Germany (Erotic Lounge, Heerstraße 2, 47053 Duisburg)
UID:237-279
SUMMARY:Erotic Lounge in Duisburg Party mit Hümeyra Ophelia
DESCRIPTION:https://www.freiercafe.net/kalender/erotic-lounge-in-duisburg-party-mit-huemeyra-ophelia.237/event?id=279
URL:https://www.freiercafe.net/kalender/erotic-lounge-in-duisburg-party-mit-huemeyra-ophelia.237/event?id=279
END:VEVENT
END:VCALENDAR