BEGIN:VCALENDAR
VERSION:2.0
METHOD:PUBLISH
PRODID:-//eightway/atendo2//NONSGML v1.0//EN
BEGIN:VEVENT
DTSTAMP:20260420T90302Z
DTSTART:20221210T40000Z
DTEND:20221211T40000Z
LOCATION:Gutenbergstraße 3, 53359 Rheinbach, Germany (Club Prestige 69, Gutenbergstraße 3, 53359 Rheinbach)
UID:236-278
SUMMARY:Weihnachtsfeier im Prestige 69 in Rheinbach
DESCRIPTION:https://www.freiercafe.net/kalender/weihnachtsfeier-im-prestige-69-in-rheinbach.236/event?id=278
URL:https://www.freiercafe.net/kalender/weihnachtsfeier-im-prestige-69-in-rheinbach.236/event?id=278
END:VEVENT
END:VCALENDAR