BEGIN:VCALENDAR
VERSION:2.0
METHOD:PUBLISH
PRODID:-//eightway/atendo2//NONSGML v1.0//EN
BEGIN:VEVENT
DTSTAMP:20260420T90228Z
DTSTART:20221225T90000Z
DTEND:20221226T100000Z
LOCATION:Lemiers Rijksweg 1, 6295 AK Lemiers, Netherlands (Saunaclub Sixens, Lemiers Rijksweg 1, 6295 AK Lemiers, Niederlande)
UID:235-277
SUMMARY:Weihnachtsparty im Sixsens
DESCRIPTION:https://www.freiercafe.net/kalender/weihnachtsparty-im-sixsens.235/event?id=277
URL:https://www.freiercafe.net/kalender/weihnachtsparty-im-sixsens.235/event?id=277
END:VEVENT
END:VCALENDAR