BEGIN:VCALENDAR
VERSION:2.0
METHOD:PUBLISH
PRODID:-//eightway/atendo2//NONSGML v1.0//EN
BEGIN:VEVENT
DTSTAMP:20260420T92028Z
DTSTART:20230101T120000Z
DTEND:20230102T20000Z
LOCATION:Hugo-Junkers-Straße 10, 50739 Köln, Germany (Saunaclub Mondial, Hugo-Junkers-Straße 10, 50739 Köln)
UID:233-275
SUMMARY:Neujahr's Party im Mondial am 01.01.2023
DESCRIPTION:https://www.freiercafe.net/kalender/neujahrs-party-im-mondial-am-01-01-2023.233/event?id=275
URL:https://www.freiercafe.net/kalender/neujahrs-party-im-mondial-am-01-01-2023.233/event?id=275
END:VEVENT
END:VCALENDAR