BEGIN:VCALENDAR
VERSION:2.0
METHOD:PUBLISH
PRODID:-//eightway/atendo2//NONSGML v1.0//EN
BEGIN:VEVENT
DTSTAMP:20260420T90159Z
DTSTART:20221231T100000Z
DTEND:20230101T40000Z
LOCATION:Kirschbaumweg 26A, 50996 Köln, Germany (Saunaclub Samya, Kirschbaumweg 26A, 50996 Köln)
UID:232-274
SUMMARY:Sylvesterparty im Samya am 31.12.2022
DESCRIPTION:https://www.freiercafe.net/kalender/sylvesterparty-im-samya-am-31-12-2022.232/event?id=274
URL:https://www.freiercafe.net/kalender/sylvesterparty-im-samya-am-31-12-2022.232/event?id=274
END:VEVENT
END:VCALENDAR