BEGIN:VCALENDAR
VERSION:2.0
METHOD:PUBLISH
PRODID:-//eightway/atendo2//NONSGML v1.0//EN
BEGIN:VEVENT
DTSTAMP:20260420T90150Z
DTSTART:20221231T90000Z
DTEND:20230101T40000Z
LOCATION:Westring 233 A, 44579 Castrop-Rauxel, Germany (Saunaclub Penelope, Westring 233 A, 44579 Castrop-Rauxel)
UID:231-273
SUMMARY:Sylvesterparty im Penelope
DESCRIPTION:https://www.freiercafe.net/kalender/sylvesterparty-im-penelope.231/event?id=273
URL:https://www.freiercafe.net/kalender/sylvesterparty-im-penelope.231/event?id=273
END:VEVENT
END:VCALENDAR