BEGIN:VCALENDAR
VERSION:2.0
METHOD:PUBLISH
PRODID:-//eightway/atendo2//NONSGML v1.0//EN
BEGIN:VEVENT
DTSTAMP:20260420T90149Z
DTSTART:20221203T100000Z
DTEND:20221204T40000Z
LOCATION:Westring 233 A, 44579 Castrop-Rauxel, Germany (Saunaclub Penelope, Westring 233 A, 44579 Castrop-Rauxel)
UID:230-272
SUMMARY:Nikolaus Party im Penelope
DESCRIPTION:https://www.freiercafe.net/kalender/nikolaus-party-im-penelope.230/event?id=272
URL:https://www.freiercafe.net/kalender/nikolaus-party-im-penelope.230/event?id=272
END:VEVENT
END:VCALENDAR