BEGIN:VCALENDAR
VERSION:2.0
METHOD:PUBLISH
PRODID:-//eightway/atendo2//NONSGML v1.0//EN
BEGIN:VEVENT
DTSTAMP:20260420T90134Z
DTSTART:20221217T100000Z
DTEND:20221218T40000Z
LOCATION:Westring 233 A, 44579 Castrop-Rauxel, Germany (Saunaclub Penelope, Westring 233 A, 44579 Castrop-Rauxel)
UID:229-271
SUMMARY:Weihnachtsparty im Penelope
DESCRIPTION:https://www.freiercafe.net/kalender/weihnachtsparty-im-penelope.229/event?id=271
URL:https://www.freiercafe.net/kalender/weihnachtsparty-im-penelope.229/event?id=271
END:VEVENT
END:VCALENDAR