BEGIN:VCALENDAR
VERSION:2.0
METHOD:PUBLISH
PRODID:-//eightway/atendo2//NONSGML v1.0//EN
BEGIN:VEVENT
DTSTAMP:20260420T90203Z
DTSTART:20221203T90000Z
DTEND:20221203T105900Z
LOCATION:Robert-Zapp-Straße 2A, 40880 Ratingen, Germany (Saunaclub Acapulco Gold, Robert-Zapp-Straße 2A, 40880 Ratingen)
UID:227-269
SUMMARY:Nikolaus Party im Acapulco GOLD
DESCRIPTION:https://www.freiercafe.net/kalender/nikolaus-party-im-acapulco-gold.227/event?id=269
URL:https://www.freiercafe.net/kalender/nikolaus-party-im-acapulco-gold.227/event?id=269
END:VEVENT
END:VCALENDAR