BEGIN:VCALENDAR
VERSION:2.0
METHOD:PUBLISH
PRODID:-//eightway/atendo2//NONSGML v1.0//EN
BEGIN:VEVENT
DTSTAMP:20260420T90150Z
DTSTART:20221126T110000Z
DTEND:20221127T20000Z
LOCATION:Güterstraße 27, 46499 Hamminkeln, Germany (Saunaclub Venus Hamminkeln)
UID:226-268
SUMMARY:Grosse Jubiläumsparty - 5 Jahre Club Venus Hamminkeln
DESCRIPTION:https://www.freiercafe.net/kalender/grosse-jubilaeumsparty-5-jahre-club-venus-hamminkeln.226/event?id=268
URL:https://www.freiercafe.net/kalender/grosse-jubilaeumsparty-5-jahre-club-venus-hamminkeln.226/event?id=268
END:VEVENT
END:VCALENDAR