BEGIN:VCALENDAR
VERSION:2.0
METHOD:PUBLISH
PRODID:-//eightway/atendo2//NONSGML v1.0//EN
BEGIN:VEVENT
DTSTAMP:20260420T90147Z
DTSTART:20221125T90000Z
DTEND:20221126T30000Z
LOCATION:Heerstraße 2, 47053 Duisburg, Germany (Erotic Lounge)
UID:224-266
SUMMARY:Erotic Lounge in Duisburg Party
DESCRIPTION:https://www.freiercafe.net/kalender/erotic-lounge-in-duisburg-party.224/event?id=266
URL:https://www.freiercafe.net/kalender/erotic-lounge-in-duisburg-party.224/event?id=266
END:VEVENT
END:VCALENDAR