BEGIN:VCALENDAR
VERSION:2.0
METHOD:PUBLISH
PRODID:-//eightway/atendo2//NONSGML v1.0//EN
BEGIN:VEVENT
DTSTAMP:20260420T90205Z
DTSTART:20221119T100000Z
DTEND:20221120T40000Z
LOCATION:Westring 233 A, 44579 Castrop-Rauxel, Germany (Penelope Deluxe)
UID:223-265
SUMMARY:Penelope: Orient Party 19.11.22
DESCRIPTION:https://www.freiercafe.net/kalender/penelope-orient-party-19-11-22.223/event?id=265
URL:https://www.freiercafe.net/kalender/penelope-orient-party-19-11-22.223/event?id=265
END:VEVENT
END:VCALENDAR