BEGIN:VCALENDAR
VERSION:2.0
METHOD:PUBLISH
PRODID:-//eightway/atendo2//NONSGML v1.0//EN
BEGIN:VEVENT
DTSTAMP:20260420T90126Z
DTSTART:20221119T90000Z
DTEND:20221120T40000Z
LOCATION:Robert-Zapp-Straße 2A, 40880 Ratingen, Germany (Acapulco Gold)
UID:222-264
SUMMARY:Acapulco Gold: Oriental Party 19.11.22
DESCRIPTION:https://www.freiercafe.net/kalender/acapulco-gold-oriental-party-19-11-22.222/event?id=264
URL:https://www.freiercafe.net/kalender/acapulco-gold-oriental-party-19-11-22.222/event?id=264
END:VEVENT
END:VCALENDAR