BEGIN:VCALENDAR
VERSION:2.0
METHOD:PUBLISH
PRODID:-//eightway/atendo2//NONSGML v1.0//EN
BEGIN:VEVENT
DTSTAMP:20260420T90144Z
DTSTART:20221105T30000Z
DTEND:20221106T40000Z
LOCATION:Rostocker Str. 13, 41540 Dormagen, Germany (Saunaclub Harem)
UID:221-263
SUMMARY:Saunaclub Harem: Neueröffnung 5.11.2022
DESCRIPTION:https://www.freiercafe.net/kalender/saunaclub-harem-neueroeffnung-5-11-2022.221/event?id=263
URL:https://www.freiercafe.net/kalender/saunaclub-harem-neueroeffnung-5-11-2022.221/event?id=263
END:VEVENT
END:VCALENDAR