BEGIN:VCALENDAR
VERSION:2.0
METHOD:PUBLISH
PRODID:-//eightway/atendo2//NONSGML v1.0//EN
BEGIN:VEVENT
DTSTAMP:20260420T90929Z
DTSTART:20221111T100000Z
DTEND:20221112T40000Z
LOCATION:Kirschbaumweg 26A, 50996 Köln, Germany (Samya Saunaclub)
UID:218-260
SUMMARY:Samya: Sankt Martin Karnevalsparty
DESCRIPTION:https://www.freiercafe.net/kalender/samya-sankt-martin-karnevalsparty.218/event?id=260
URL:https://www.freiercafe.net/kalender/samya-sankt-martin-karnevalsparty.218/event?id=260
END:VEVENT
END:VCALENDAR