BEGIN:VCALENDAR
VERSION:2.0
METHOD:PUBLISH
PRODID:-//eightway/atendo2//NONSGML v1.0//EN
BEGIN:VEVENT
DTSTAMP:20260420T90146Z
DTSTART:20221104T100000Z
DTEND:20221105T120000Z
LOCATION:Am Wulfter Turm 1A, 49082 Osnabrück, Germany (Totalclub)
UID:216-258
SUMMARY:Neueröffnung TotalCLub in Osnabrück
DESCRIPTION:https://www.freiercafe.net/kalender/neueroeffnung-totalclub-in-osnabrueck.216/event?id=258
URL:https://www.freiercafe.net/kalender/neueroeffnung-totalclub-in-osnabrueck.216/event?id=258
END:VEVENT
END:VCALENDAR