BEGIN:VCALENDAR
VERSION:2.0
METHOD:PUBLISH
PRODID:-//eightway/atendo2//NONSGML v1.0//EN
BEGIN:VEVENT
DTSTAMP:20260420T90312Z
DTSTART:20221126T100000Z
DTEND:20221127T30000Z
LOCATION:Güterstraße 27, 46499 Hamminkeln, Germany (Club Venus in Hamminkeln)
UID:215-257
SUMMARY:Grosse Jubiläumsparty - 5 Jahre Club Venus
DESCRIPTION:https://www.freiercafe.net/kalender/grosse-jubilaeumsparty-5-jahre-club-venus.215/event?id=257
URL:https://www.freiercafe.net/kalender/grosse-jubilaeumsparty-5-jahre-club-venus.215/event?id=257
END:VEVENT
END:VCALENDAR