BEGIN:VCALENDAR
VERSION:2.0
METHOD:PUBLISH
PRODID:-//eightway/atendo2//NONSGML v1.0//EN
BEGIN:VEVENT
DTSTAMP:20260420T90227Z
DTSTART:20221031T100000Z
DTEND:20221101T40000Z
LOCATION:Kirschbaumweg 26, 50996 Köln, Germany (Samya)
UID:212-254
SUMMARY:Halloweenparty im Samya
DESCRIPTION:https://www.freiercafe.net/kalender/halloweenparty-im-samya.212/event?id=254
URL:https://www.freiercafe.net/kalender/halloweenparty-im-samya.212/event?id=254
END:VEVENT
END:VCALENDAR