BEGIN:VCALENDAR
VERSION:2.0
METHOD:PUBLISH
PRODID:-//eightway/atendo2//NONSGML v1.0//EN
BEGIN:VEVENT
DTSTAMP:20260420T90122Z
DTSTART:20221031T100000Z
DTEND:20221101T40000Z
LOCATION:Butzenstraße 41, 47918 Tönisvorst, Germany (Happy Garden)
UID:211-253
SUMMARY:Grosse Halloween-Party im Happy Garden
DESCRIPTION:https://www.freiercafe.net/kalender/grosse-halloween-party-im-happy-garden.211/event?id=253
URL:https://www.freiercafe.net/kalender/grosse-halloween-party-im-happy-garden.211/event?id=253
END:VEVENT
END:VCALENDAR