BEGIN:VCALENDAR
VERSION:2.0
METHOD:PUBLISH
PRODID:-//eightway/atendo2//NONSGML v1.0//EN
BEGIN:VEVENT
DTSTAMP:20260420T90152Z
DTSTART:20221111T100000Z
DTEND:20221112T120000Z
LOCATION:Deutscher Ring 42, 42327 Wuppertal, Germany (Saunaclub Sky in Wuppertal)
UID:210-252
SUMMARY:10 Jahre Sky in Wuppertal
DESCRIPTION:https://www.freiercafe.net/kalender/10-jahre-sky-in-wuppertal.210/event?id=252
URL:https://www.freiercafe.net/kalender/10-jahre-sky-in-wuppertal.210/event?id=252
END:VEVENT
END:VCALENDAR