BEGIN:VCALENDAR
VERSION:2.0
METHOD:PUBLISH
PRODID:-//eightway/atendo2//NONSGML v1.0//EN
BEGIN:VEVENT
DTSTAMP:20260420T92021Z
DTSTART:20221029T90000Z
DTEND:20221030T40000Z
LOCATION:Westring 233 A, 44579 Castrop-Rauxel, Germany (Saunaclub Penelope)
UID:209-251
SUMMARY:Grosse Halloween-Party in der Penelope
DESCRIPTION:https://www.freiercafe.net/kalender/grosse-halloween-party-in-der-penelope.209/event?id=251
URL:https://www.freiercafe.net/kalender/grosse-halloween-party-in-der-penelope.209/event?id=251
END:VEVENT
END:VCALENDAR