BEGIN:VCALENDAR
VERSION:2.0
METHOD:PUBLISH
PRODID:-//eightway/atendo2//NONSGML v1.0//EN
BEGIN:VEVENT
DTSTAMP:20260420T91242Z
DTSTART:20221029T80000Z
DTEND:20221030T40000Z
LOCATION:Robert-Zapp-Straße 2A, 40880 Ratingen, Germany (Acapulco Gold in Ratingen)
UID:208-250
SUMMARY:Grosse Halloween-Party im Acapulco Gold
DESCRIPTION:https://www.freiercafe.net/kalender/grosse-halloween-party-im-acapulco-gold.208/event?id=250
URL:https://www.freiercafe.net/kalender/grosse-halloween-party-im-acapulco-gold.208/event?id=250
END:VEVENT
END:VCALENDAR