BEGIN:VCALENDAR
VERSION:2.0
METHOD:PUBLISH
PRODID:-//eightway/atendo2//NONSGML v1.0//EN
BEGIN:VEVENT
DTSTAMP:20260420T90133Z
DTSTART:20221031T100000Z
DTEND:20221101T20000Z
LOCATION:Riemker Str. 110, 44625 Herne, Germany (FKK Salome)
UID:207-249
SUMMARY:Halloween im Salome
DESCRIPTION:https://www.freiercafe.net/kalender/halloween-im-salome.207/event?id=249
URL:https://www.freiercafe.net/kalender/halloween-im-salome.207/event?id=249
END:VEVENT
END:VCALENDAR