BEGIN:VCALENDAR
VERSION:2.0
METHOD:PUBLISH
PRODID:-//eightway/atendo2//NONSGML v1.0//EN
BEGIN:VEVENT
DTSTAMP:20260420T90223Z
DTSTART:20221031T90000Z
DTEND:20221101T20000Z
LOCATION:Harkortstraße 3, 42551 Velbert, Germany (FKK Prime)
UID:206-248
SUMMARY:Halloween im Acapulco PRIME
DESCRIPTION:https://www.freiercafe.net/kalender/halloween-im-acapulco-prime.206/event?id=248
URL:https://www.freiercafe.net/kalender/halloween-im-acapulco-prime.206/event?id=248
END:VEVENT
END:VCALENDAR