BEGIN:VCALENDAR
VERSION:2.0
METHOD:PUBLISH
PRODID:-//eightway/atendo2//NONSGML v1.0//EN
BEGIN:VEVENT
DTSTAMP:20260420T90201Z
DTSTART:20221007T90000Z
DTEND:20221008T30000Z
LOCATION:Butzenstraße 41, 47918 Tönisvorst, Germany (Happy Garden)
UID:205-247
SUMMARY:Oktoberfest im Happy Garden
DESCRIPTION:https://www.freiercafe.net/kalender/oktoberfest-im-happy-garden.205/event?id=247
URL:https://www.freiercafe.net/kalender/oktoberfest-im-happy-garden.205/event?id=247
END:VEVENT
END:VCALENDAR