BEGIN:VCALENDAR
VERSION:2.0
METHOD:PUBLISH
PRODID:-//eightway/atendo2//NONSGML v1.0//EN
BEGIN:VEVENT
DTSTAMP:20260420T90200Z
DTSTART:20221001T40000Z
DTEND:20221002T120000Z
LOCATION:Heerstraße 2, 47053 Duisburg, Germany (Erotic Lounge)
UID:204-246
SUMMARY:Neueröffnung
DESCRIPTION:https://www.freiercafe.net/kalender/neueroeffnung.204/event?id=246
URL:https://www.freiercafe.net/kalender/neueroeffnung.204/event?id=246
END:VEVENT
END:VCALENDAR