BEGIN:VCALENDAR
VERSION:2.0
METHOD:PUBLISH
PRODID:-//eightway/atendo2//NONSGML v1.0//EN
BEGIN:VEVENT
DTSTAMP:20260420T90156Z
DTSTART:20221001T90000Z
DTEND:20221002T30000Z
LOCATION:Westring 233 A, 44579 Castrop-Rauxel, Germany (Saunaclub Penelope)
UID:203-245
SUMMARY:Oktoberfest in der Penelope
DESCRIPTION:https://www.freiercafe.net/kalender/oktoberfest-in-der-penelope.203/event?id=245
URL:https://www.freiercafe.net/kalender/oktoberfest-in-der-penelope.203/event?id=245
END:VEVENT
END:VCALENDAR