BEGIN:VCALENDAR
VERSION:2.0
METHOD:PUBLISH
PRODID:-//eightway/atendo2//NONSGML v1.0//EN
BEGIN:VEVENT
DTSTAMP:20260420T90153Z
DTSTART:20221001T80000Z
DTEND:20221002T30000Z
LOCATION:Robert-Zapp-Straße 2A, 40880 Ratingen, Germany (Acapulco Gold in Ratingen)
UID:202-244
SUMMARY:Oktoberfest im Acapulco-Gold
DESCRIPTION:https://www.freiercafe.net/kalender/oktoberfest-im-acapulco-gold.202/event?id=244
URL:https://www.freiercafe.net/kalender/oktoberfest-im-acapulco-gold.202/event?id=244
END:VEVENT
END:VCALENDAR