BEGIN:VCALENDAR
VERSION:2.0
METHOD:PUBLISH
PRODID:-//eightway/atendo2//NONSGML v1.0//EN
BEGIN:VEVENT
DTSTAMP:20260420T90131Z
DTSTART:20221002T80000Z
DTEND:20221003T10000Z
LOCATION:Riemker Str. 110, 44625 Herne, Germany (FKK Salome)
UID:201-243
SUMMARY:FKK Salome: Salome Party
DESCRIPTION:https://www.freiercafe.net/kalender/fkk-salome-salome-party.201/event?id=243
URL:https://www.freiercafe.net/kalender/fkk-salome-salome-party.201/event?id=243
END:VEVENT
END:VCALENDAR