BEGIN:VCALENDAR
VERSION:2.0
METHOD:PUBLISH
PRODID:-//eightway/atendo2//NONSGML v1.0//EN
BEGIN:VEVENT
DTSTAMP:20260420T90308Z
DTSTART:20221002T80000Z
DTEND:20221003T10000Z
LOCATION:Harkortstraße 3, 42551 Velbert, Germany (FKK Prime)
UID:200-242
SUMMARY:Acapulco Prime Party
DESCRIPTION:https://www.freiercafe.net/kalender/acapulco-prime-party.200/event?id=242
URL:https://www.freiercafe.net/kalender/acapulco-prime-party.200/event?id=242
END:VEVENT
END:VCALENDAR