BEGIN:VCALENDAR
VERSION:2.0
METHOD:PUBLISH
PRODID:-//eightway/atendo2//NONSGML v1.0//EN
BEGIN:VEVENT
DTSTAMP:20260420T90156Z
DTSTART:20220915T90000Z
DTEND:20220917T120000Z
LOCATION:Bahnstraße 90, 47929 Grefrath, Germany (GoldenGate Saunaclub)
UID:199-241
SUMMARY:GoldenGate Neueröffnung &amp; After Work Party
DESCRIPTION:https://www.freiercafe.net/kalender/goldengate-neueroeffnung-after-work-party.199/event?id=241
URL:https://www.freiercafe.net/kalender/goldengate-neueroeffnung-after-work-party.199/event?id=241
END:VEVENT
END:VCALENDAR