BEGIN:VCALENDAR
VERSION:2.0
METHOD:PUBLISH
PRODID:-//eightway/atendo2//NONSGML v1.0//EN
BEGIN:VEVENT
DTSTAMP:20260420T90153Z
DTSTART:20221002T90000Z
DTEND:20221003T10000Z
LOCATION:Kirschbaumweg 26A, 50996 Köln, Germany (Samya FKK Sauna Club)
UID:198-240
SUMMARY:FKK Samya: 18 Jahre Samya ! 02.10.22
DESCRIPTION:https://www.freiercafe.net/kalender/fkk-samya-18-jahre-samya-02-10-22.198/event?id=240
URL:https://www.freiercafe.net/kalender/fkk-samya-18-jahre-samya-02-10-22.198/event?id=240
END:VEVENT
END:VCALENDAR