BEGIN:VCALENDAR
VERSION:2.0
METHOD:PUBLISH
PRODID:-//eightway/atendo2//NONSGML v1.0//EN
BEGIN:VEVENT
DTSTAMP:20260420T90126Z
DTSTART:20220826T90000Z
DTEND:20220828T30000Z
LOCATION:Butzenstraße 41, 47918 Tönisvorst, Germany (Happy Garden)
UID:195-237
SUMMARY:Legendery White Sensation Party
DESCRIPTION:https://www.freiercafe.net/kalender/legendery-white-sensation-party.195/event?id=237
URL:https://www.freiercafe.net/kalender/legendery-white-sensation-party.195/event?id=237
END:VEVENT
END:VCALENDAR