BEGIN:VCALENDAR
VERSION:2.0
METHOD:PUBLISH
PRODID:-//eightway/atendo2//NONSGML v1.0//EN
BEGIN:VEVENT
DTSTAMP:20260420T90202Z
DTSTART:20220726T90000Z
DTEND:20220727T10000Z
LOCATION:Kirschbaumweg 26A, 50996 Köln, Germany (Samya FKK Sauna Club)
UID:194-236
SUMMARY:ALI Baba‘s Party
DESCRIPTION:https://www.freiercafe.net/kalender/ali-babas-party.194/event?id=236
URL:https://www.freiercafe.net/kalender/ali-babas-party.194/event?id=236
END:VEVENT
END:VCALENDAR