BEGIN:VCALENDAR
VERSION:2.0
METHOD:PUBLISH
PRODID:-//eightway/atendo2//NONSGML v1.0//EN
BEGIN:VEVENT
DTSTAMP:20260420T90148Z
DTSTART:20220710T10000Z
DTEND:20220711T10000Z
LOCATION:Hugo-Junkers-Straße 10, 50739 Köln, Germany (Club Mondial)
UID:193-235
SUMMARY:Club Mondial -Bayram Party
DESCRIPTION:https://www.freiercafe.net/kalender/club-mondial-bayram-party.193/event?id=235
URL:https://www.freiercafe.net/kalender/club-mondial-bayram-party.193/event?id=235
END:VEVENT
END:VCALENDAR