BEGIN:VCALENDAR
VERSION:2.0
METHOD:PUBLISH
PRODID:-//eightway/atendo2//NONSGML v1.0//EN
BEGIN:VEVENT
DTSTAMP:20260422T24800Z
DTSTART:20220629T90000Z
DTEND:20220630T30000Z
LOCATION:Kirschbaumweg 26A, 50996 Köln, Germany (Samya FKK Club)
UID:192-234
SUMMARY:Mallorca Party im Samya
DESCRIPTION:https://www.freiercafe.net/kalender/mallorca-party-im-samya.192/event?id=234
URL:https://www.freiercafe.net/kalender/mallorca-party-im-samya.192/event?id=234
END:VEVENT
END:VCALENDAR