BEGIN:VCALENDAR
VERSION:2.0
METHOD:PUBLISH
PRODID:-//eightway/atendo2//NONSGML v1.0//EN
BEGIN:VEVENT
DTSTAMP:20260420T90129Z
DTSTART:20220622T90000Z
DTEND:20220623T30000Z
LOCATION:Kirschbaumweg 26A, 50996 Köln, Germany (Samya FKK Club)
UID:192-233
SUMMARY:Mallorca Party im Samya
DESCRIPTION:https://www.freiercafe.net/kalender/mallorca-party-im-samya.192/event?id=233
URL:https://www.freiercafe.net/kalender/mallorca-party-im-samya.192/event?id=233
END:VEVENT
END:VCALENDAR