BEGIN:VCALENDAR
VERSION:2.0
METHOD:PUBLISH
PRODID:-//eightway/atendo2//NONSGML v1.0//EN
BEGIN:VEVENT
DTSTAMP:20260420T90131Z
DTSTART:20220611T90000Z
DTEND:20220612T10000Z
LOCATION:Westring 233 A, 44579 Castrop-Rauxel, Germany (Saunaclub Penelope Deluxe)
UID:191-232
SUMMARY:POOLPARTY im Penelope
DESCRIPTION:https://www.freiercafe.net/kalender/poolparty-im-penelope.191/event?id=232
URL:https://www.freiercafe.net/kalender/poolparty-im-penelope.191/event?id=232
END:VEVENT
END:VCALENDAR